Workbook

Sheet Areia
E2: ELEIÇÕES CONSUPER/CEPE 2016 - CAMPUS AREIA
A4: Urna de Docentes | F4: Urna de TAs | K4: Urna de Estudantes
B6: Total de eleitores aptos a votar | D6: 2 | G6: Total de eleitores aptos a votar | I6: 2 | L6: Total de eleitores aptos a votar | N6: 26
B7: Total de votantes | D7: 1 | G7: Total de votantes | I7: 2 | L7: Total de votantes | N7: 0
B8: Abstenções | D8: =D6-D7 -> 1 | G8: Abstenções | I8: =I6-I7 -> 0 | L8: Abstenções | N8: =N6-N7 -> 26
F10: RESULTADOS (CONSUPER)
A12: CHAPAS (CONSUPER)
A14: DOCENTES | D14: Votos | F14: T.As | I14: Votos | K14: ESTUDANTES | N14: Votos
A15: CHAPA 01 | D15: 1 | F15: CHAPA 01 | I15: 2 | K15: CHAPA 01 | N15: 0
A16: Votos brancos | D16: 0 | F16: Votos brancos | I16: 0 | K16: CHAPA 02 | N16: 0
A17: Votos Nulos | D17: 0 | F17: Votos Nulos | I17: 0 | K17: Votos brancos | N17: 0
K18: Votos Nulos | N18: 0
F20: RESULTADOS (CEPE)
A22: CHAPAS (CEPE)
A24: DOCENTES | D24: Votos | F24: T.As | I24: Votos | K24: ESTUDANTES | N24: Votos
A25: CHAPA 01 | D25: 1 | F25: CHAPA 01 | I25: 2 | K25: CHAPA 01 | N25: 0
A26: Votos brancos | D26: 0 | F26: CHAPA 02 | I26: 0 | K26: CHAPA 02 | N26: 0
A27: Votos Nulos | D27: 0 | F27: Votos brancos | I27: 0 | K27: Votos brancos | N27: 0
F28: Votos Nulos | I28: 0 | K28: Votos Nulos | N28: 0

Sheet Cabedelo Centro
E2: ELEIÇÕES CONSUPER/CEPE 2016 - CAMPUS CABEDELO CENTRO
A4: Urna de Docentes | F4: Urna de TAs | K4: Urna de Estudantes
B6: Total de eleitores aptos a votar | D6: 31 | G6: Total de eleitores aptos a votar | I6: 15 | L6: Total de eleitores aptos a votar | N6: 207
B7: Total de votantes | D7: 21 | G7: Total de votantes | I7: 11 | L7: Total de votantes | N7: 47
B8: Abstenções | D8: =D6-D7 -> 10 | G8: Abstenções | I8: =I6-I7 -> 4 | L8: Abstenções | N8: =N6-N7 -> 160
F10: RESULTADOS (CONSUPER)
A12: CHAPAS (CONSUPER)
A14: DOCENTES | D14: Votos | F14: T.As | I14: Votos | K14: ESTUDANTES | N14: Votos
A15: CHAPA 01 | D15: 19 | F15: CHAPA 01 | I15: 8 | K15: CHAPA 01 | N15: 13
A16: Votos brancos | D16: 2 | F16: Votos brancos | I16: 3 | K16: CHAPA 02 | N16: 32
A17: Votos Nulos | D17: 0 | F17: Votos Nulos | I17: 0 | K17: Votos brancos | N17: 2
K18: Votos Nulos | N18: 0
F20: RESULTADOS (CEPE)
A22: CHAPAS (CEPE)
A24: DOCENTES | D24: Votos | F24: T.As | I24: Votos | K24: ESTUDANTES | N24: Votos
A25: CHAPA 01 | D25: 19 | F25: CHAPA 01 | I25: 11 | K25: CHAPA 01 | N25: 12
A26: Votos brancos | D26: 2 | F26: CHAPA 02 | I26: 0 | K26: CHAPA 02 | N26: 30
A27: Votos Nulos | D27: 0 | F27: Votos brancos | I27: 0 | K27: Votos brancos | N27: 4
F28: Votos Nulos | I28: 0 | K28: Votos Nulos | N28: 1

Sheet Cabedelo
E2: ELEIÇÕES CONSUPER/CEPE 2016 - CAMPUS CABEDELO
A4: Urna de Docentes | F4: Urna de TAs | K4: Urna de Estudantes
B6: Total de eleitores aptos a votar | D6: 67 | G6: Total de eleitores aptos a votar | I6: 37 | L6: Total de eleitores aptos a votar | N6: 813
B7: Total de votantes | D7: 38 | G7: Total de votantes | I7: 26 | L7: Total de votantes | N7: 240
B8: Abstenções | D8: =D6-D7 -> 29 | G8: Abstenções | I8: =I6-I7 -> 11 | L8: Abstenções | N8: =N6-N7 -> 573
F10: RESULTADOS (CONSUPER)
A12: CHAPAS (CONSUPER)
A14: DOCENTES | D14: Votos | F14: T.As | I14: Votos | K14: ESTUDANTES | N14: Votos
A15: CHAPA 01 | D15: 30 | F15: CHAPA 01 | I15: 9 | K15: CHAPA 01 | N15: 23
A16: Votos brancos | D16: 8 | F16: Votos brancos | I16: 25 | K16: CHAPA 02 | N16: 184
A17: Votos Nulos | D17: 0 | F17: Votos Nulos | I17: 0 | K17: Votos brancos | N17: 30
K18: Votos Nulos | N18: 3
F20: RESULTADOS (CEPE)
A22: CHAPAS (CEPE)
A24: DOCENTES | D24: Votos | F24: T.As | I24: Votos | K24: ESTUDANTES | N24: Votos
A25: CHAPA 01 | D25: 30 | F25: CHAPA 01 | I25: 3 | K25: CHAPA 01 | N25: 22
A26: Votos brancos | D26: 8 | F26: CHAPA 02 | I26: 8 | K26: CHAPA 02 | N26: 181
A27: Votos Nulos | D27: 0 | F27: Votos brancos | I27: 13 | K27: Votos brancos | N27: 34
F28: Votos Nulos | I28: 2 | K28: Votos Nulos | N28: 3

Sheet Cajazeiras
E2: ELEIÇÕES CONSUPER/CEPE 2016 - CAMPUS CAJAZEIRAS
A4: Urna de Docentes | F4: Urna de TAs | K4: Urna de Estudantes
B6: Total de eleitores aptos a votar | D6: 99 | G6: Total de eleitores aptos a votar | I6: 84 | L6: Total de eleitores aptos a votar | N6: 1290
B7: Total de votantes | D7: 44 | G7: Total de votantes | I7: 52 | L7: Total de votantes | N7: 200
B8: Abstenções | D8: =D6-D7 -> 55 | G8: Abstenções | I8: =I6-I7 -> 32 | L8: Abstenções | N8: =N6-N7 -> 1090
F10: RESULTADOS (CONSUPER)
A12: CHAPAS (CONSUPER)
A14: DOCENTES | D14: Votos | F14: T.As | I14: Votos | K14: ESTUDANTES | N14: Votos
A15: CHAPA 01 | D15: 33 | F15: CHAPA 01 | I15: 35 | K15: CHAPA 01 | N15: 52
A16: Votos brancos | D16: 11 | F16: Votos brancos | I16: 17 | K16: CHAPA 02 | N16: 129
A17: Votos Nulos | D17: 0 | F17: Votos Nulos | I17: 0 | K17: Votos brancos | N17: 19
K18: Votos Nulos | N18: 0
F20: RESULTADOS (CEPE)
A22: CHAPAS (CEPE)
A24: DOCENTES | D24: Votos | F24: T.As | I24: Votos | K24: ESTUDANTES | N24: Votos
A25: CHAPA 01 | D25: 30 | F25: CHAPA 01 | I25: 22 | K25: CHAPA 01 | N25: 46
A26: Votos brancos | D26: 14 | F26: CHAPA 02 | I26: 7 | K26: CHAPA 02 | N26: 143
A27: Votos Nulos | D27: 0 | F27: Votos brancos | I27: 22 | K27: Votos brancos | N27: 19
F28: Votos Nulos | I28: 1 | K28: Votos Nulos | N28: 1

Sheet Campina Grande
E2: ELEIÇÕES CONSUPER/CEPE 2016 - CAMPUS CAMPINA GRANDE
A4: Urna de Docentes | F4: Urna de TAs | K4: Urna de Estudantes
B6: Total de eleitores aptos a votar | D6: 131 | G6: Total de eleitores aptos a votar | I6: 81 | L6: Total de eleitores aptos a votar | N6: 1903
B7: Total de votantes | D7: 33 | G7: Total de votantes | I7: 53 | L7: Total de votantes | N7: 196
B8: Abstenções | D8: =D6-D7 -> 98 | G8: Abstenções | I8: =I6-I7 -> 28 | L8: Abstenções | N8: =N6-N7 -> 1707
F10: RESULTADOS (CONSUPER)
A12: CHAPAS (CONSUPER)
A14: DOCENTES | D14: Votos | F14: T.As | I14: Votos | K14: ESTUDANTES | N14: Votos
A15: CHAPA 01 | D15: 29 | F15: CHAPA 01 | I15: 45 | K15: CHAPA 01 | N15: 32
A16: Votos brancos | D16: 3 | F16: Votos brancos | I16: 8 | K16: CHAPA 02 | N16: 151
A17: Votos Nulos | D17: 1 | F17: Votos Nulos | I17: 0 | K17: Votos brancos | N17: 11
K18: Votos Nulos | N18: 2
F20: RESULTADOS (CEPE)
A22: CHAPAS (CEPE)
A24: DOCENTES | D24: Votos | F24: T.As | I24: Votos | K24: ESTUDANTES | N24: Votos
A25: CHAPA 01 | D25: 30 | F25: CHAPA 01 | I25: 16 | K25: CHAPA 01 | N25: 74
A26: Votos brancos | D26: 2 | F26: CHAPA 02 | I26: 13 | K26: CHAPA 02 | N26: 96
A27: Votos Nulos | D27: 1 | F27: Votos brancos | I27: 21 | K27: Votos brancos | N27: 22
F28: Votos Nulos | I28: 3 | K28: Votos Nulos | N28: 4

Sheet Catolé do Rocha
E2: ELEIÇÕES CONSUPER/CEPE 2016 - CAMPUS CATOLÉ DO ROCHA
A4: Urna de Docentes | F4: Urna de TAs | K4: Urna de Estudantes
B6: Total de eleitores aptos a votar | D6: 17 | G6: Total de eleitores aptos a votar | I6: 14 | L6: Total de eleitores aptos a votar | N6: 76
B7: Total de votantes | D7: 13 | G7: Total de votantes | I7: 13 | L7: Total de votantes | N7: 61
B8: Abstenções | D8: =D6-D7 -> 4 | G8: Abstenções | I8: =I6-I7 -> 1 | L8: Abstenções | N8: =N6-N7 -> 15
F10: RESULTADOS (CONSUPER)
A12: CHAPAS (CONSUPER)
A14: DOCENTES | D14: Votos | F14: T.As | I14: Votos | K14: ESTUDANTES | N14: Votos
A15: CHAPA 01 | D15: 13 | F15: CHAPA 01 | I15: 6 | K15: CHAPA 01 | N15: 52
A16: Votos brancos | D16: 0 | F16: Votos brancos | I16: 7 | K16: CHAPA 02 | N16: 7
A17: Votos Nulos | D17: 0 | F17: Votos Nulos | I17: 0 | K17: Votos brancos | N17: 2
K18: Votos Nulos | N18: 0
F20: RESULTADOS (CEPE)
A22: CHAPAS (CEPE)
A24: DOCENTES | D24: Votos | F24: T.As | I24: Votos | K24: ESTUDANTES | N24: Votos
A25: CHAPA 01 | D25: 13 | F25: CHAPA 01 | I25: 10 | K25: CHAPA 01 | N25: 49
A26: Votos brancos | D26: 0 | F26: CHAPA 02 | I26: 1 | K26: CHAPA 02 | N26: 7
A27: Votos Nulos | D27: 0 | F27: Votos brancos | I27: 2 | K27: Votos brancos | N27: 5
F28: Votos Nulos | I28: 0 | K28: Votos Nulos | N28: 0

Sheet Esperança
E2: ELEIÇÕES CONSUPER/CEPE 2016 - CAMPUS ESPERANÇA
A4: Urna de Docentes | F4: Urna de TAs | K4: Urna de Estudantes
B6: Total de eleitores aptos a votar | D6: 15 | G6: Total de eleitores aptos a votar | I6: 11 | L6: Total de eleitores aptos a votar | N6: 121
B7: Total de votantes | D7: 15 | G7: Total de votantes | I7: 10 | L7: Total de votantes | N7: 38
B8: Abstenções | D8: =D6-D7 -> 0 | G8: Abstenções | I8: =I6-I7 -> 1 | L8: Abstenções | N8: =N6-N7 -> 83
F10: RESULTADOS (CONSUPER)
A12: CHAPAS (CONSUPER)
A14: DOCENTES | D14: Votos | F14: T.As | I14: Votos | K14: ESTUDANTES | N14: Votos
A15: CHAPA 01 | D15: 14 | F15: CHAPA 01 | I15: 9 | K15: CHAPA 01 | N15: 9
A16: Votos brancos | D16: 1 | F16: Votos brancos | I16: 1 | K16: CHAPA 02 | N16: 26
A17: Votos Nulos | D17: 0 | F17: Votos Nulos | I17: 0 | K17: Votos brancos | N17: 3
K18: Votos Nulos | N18: 0
F20: RESULTADOS (CEPE)
A22: CHAPAS (CEPE)
A24: DOCENTES | D24: Votos | F24: T.As | I24: Votos | K24: ESTUDANTES | N24: Votos
A25: CHAPA 01 | D25: 15 | F25: CHAPA 01 | I25: 7 | K25: CHAPA 01 | N25: 7
A26: Votos brancos | D26: 0 | F26: CHAPA 02 | I26: 1 | K26: CHAPA 02 | N26: 28
A27: Votos Nulos | D27: 0 | F27: Votos brancos | I27: 2 | K27: Votos brancos | N27: 3
F28: Votos Nulos | I28: 0 | K28: Votos Nulos | N28: 0

Sheet Guarabira
E2: ELEIÇÕES CONSUPER/CEPE 2016 - CAMPUS GUARABIRA
A4: Urna de Docentes | F4: Urna de TAs | K4: Urna de Estudantes
B6: Total de eleitores aptos a votar | D6: 39 | G6: Total de eleitores aptos a votar | I6: 27 | L6: Total de eleitores aptos a votar | N6: 372
B7: Total de votantes | D7: 17 | G7: Total de votantes | I7: 12 | L7: Total de votantes | N7: 34
B8: Abstenções | D8: =D6-D7 -> 22 | G8: Abstenções | I8: =I6-I7 -> 15 | L8: Abstenções | N8: =N6-N7 -> 338
F10: RESULTADOS (CONSUPER)
A12: CHAPAS (CONSUPER)
A14: DOCENTES | D14: Votos | F14: T.As | I14: Votos | K14: ESTUDANTES | N14: Votos
A15: CHAPA 01 | D15: 13 | F15: CHAPA 01 | I15: 9 | K15: CHAPA 01 | N15: 17
A16: Votos brancos | D16: 4 | F16: Votos brancos | I16: 3 | K16: CHAPA 02 | N16: 12
A17: Votos Nulos | D17: 0 | F17: Votos Nulos | I17: 0 | K17: Votos brancos | N17: 5
K18: Votos Nulos | N18: 0
F20: RESULTADOS (CEPE)
A22: CHAPAS (CEPE)
A24: DOCENTES | D24: Votos | F24: T.As | I24: Votos | K24: ESTUDANTES | N24: Votos
A25: CHAPA 01 | D25: 12 | F25: CHAPA 01 | I25: 4 | K25: CHAPA 01 | N25: 8
A26: Votos brancos | D26: 5 | F26: CHAPA 02 | I26: 6 | K26: CHAPA 02 | N26: 21
A27: Votos Nulos | D27: 0 | F27: Votos brancos | I27: 2 | K27: Votos brancos | N27: 5
F28: Votos Nulos | I28: 0 | K28: Votos Nulos | N28: 0

Sheet Itabaiana
E2: ELEIÇÕES CONSUPER/CEPE 2016 - CAMPUS ITABAIANA
A4: Urna de Docentes | F4: Urna de TAs | K4: Urna de Estudantes
B6: Total de eleitores aptos a votar | D6: 17 | G6: Total de eleitores aptos a votar | I6: 14 | L6: Total de eleitores aptos a votar | N6: 97
B7: Total de votantes | D7: 17 | G7: Total de votantes | I7: 12 | L7: Total de votantes | N7: 51
B8: Abstenções | D8: =D6-D7 -> 0 | G8: Abstenções | I8: =I6-I7 -> 2 | L8: Abstenções | N8: =N6-N7 -> 46
F10: RESULTADOS (CONSUPER)
A12: CHAPAS (CONSUPER)
A14: DOCENTES | D14: Votos | F14: T.As | I14: Votos | K14: ESTUDANTES | N14: Votos
A15: CHAPA 01 | D15: 14 | F15: CHAPA 01 | I15: 7 | K15: CHAPA 01 | N15: 19
A16: Votos brancos | D16: 3 | F16: Votos brancos | I16: 5 | K16: CHAPA 02 | N16: 5
A17: Votos Nulos | D17: 0 | F17: Votos Nulos | I17: 0 | K17: Votos brancos | N17: 22
K18: Votos Nulos | N18: 5
F20: RESULTADOS (CEPE)
A22: CHAPAS (CEPE)
A24: DOCENTES | D24: Votos | F24: T.As | I24: Votos | K24: ESTUDANTES | N24: Votos
A25: CHAPA 01 | D25: 14 | F25: CHAPA 01 | I25: 5 | K25: CHAPA 01 | N25: 13
A26: Votos brancos | D26: 0 | F26: CHAPA 02 | I26: 2 | K26: CHAPA 02 | N26: 12
A27: Votos Nulos | D27: 0 | F27: Votos brancos | I27: 5 | K27: Votos brancos | N27: 22
F28: Votos Nulos | I28: 0 | K28: Votos Nulos | N28: 4

Sheet Itaporanga
E2: ELEIÇÕES CONSUPER/CEPE 2016 - CAMPUS ITAPORANGA
A4: Urna de Docentes | F4: Urna de TAs | K4: Urna de Estudantes
B6: Total de eleitores aptos a votar | D6: 18 | G6: Total de eleitores aptos a votar | I6: 11 | L6: Total de eleitores aptos a votar | N6: 81
B7: Total de votantes | D7: 16 | G7: Total de votantes | I7: 9 | L7: Total de votantes | N7: 73
B8: Abstenções | D8: =D6-D7 -> 2 | G8: Abstenções | I8: =I6-I7 -> 2 | L8: Abstenções | N8: =N6-N7 -> 8
F10: RESULTADOS (CONSUPER)
A12: CHAPAS (CONSUPER)
A14: DOCENTES | D14: Votos | F14: T.As | I14: Votos | K14: ESTUDANTES | N14: Votos
A15: CHAPA 01 | D15: 13 | F15: CHAPA 01 | I15: 8 | K15: CHAPA 01 | N15: 64
A16: Votos brancos | D16: 3 | F16: Votos brancos | I16: 1 | K16: CHAPA 02 | N16: 4
A17: Votos Nulos | D17: 0 | F17: Votos Nulos | I17: 0 | K17: Votos brancos | N17: 5
K18: Votos Nulos | N18: 0
F20: RESULTADOS (CEPE)
A22: CHAPAS (CEPE)
A24: DOCENTES | D24: Votos | F24: T.As | I24: Votos | K24: ESTUDANTES | N24: Votos
A25: CHAPA 01 | D25: 13 | F25: CHAPA 01 | I25: 6 | K25: CHAPA 01 | N25: 25
A26: Votos brancos | D26: 3 | F26: CHAPA 02 | I26: 2 | K26: CHAPA 02 | N26: 12
A27: Votos Nulos | D27: 0 | F27: Votos brancos | I27: 1 | K27: Votos brancos | N27: 36
F28: Votos Nulos | I28: 0 | K28: Votos Nulos | N28: 0

Sheet João Pessoa
E2: ELEIÇÕES CONSUPER/CEPE 2016 - CAMPUS JOÃO PESSOA
A4: Urna de Docentes | F4: Urna de TAs | K4: Urna de Estudantes
B6: Total de eleitores aptos a votar | D6: 377 | G6: Total de eleitores aptos a votar | I6: 229 | L6: Total de eleitores aptos a votar | N6: 4211
B7: Total de votantes | D7: 104 | G7: Total de votantes | I7: 74 | L7: Total de votantes | N7: 375
B8: Abstenções | D8: =D6-D7 -> 273 | G8: Abstenções | I8: =I6-I7 -> 155 | L8: Abstenções | N8: =N6-N7 -> 3836
F10: RESULTADOS (CONSUPER)
A12: CHAPAS (CONSUPER)
A14: DOCENTES | D14: Votos | F14: T.As | I14: Votos | K14: ESTUDANTES | N14: Votos
A15: CHAPA 01 | D15: 95 | F15: CHAPA 01 | I15: 43 | K15: CHAPA 01 | N15: 320
A16: Votos brancos | D16: 9 | F16: Votos brancos | I16: 31 | K16: CHAPA 02 | N16: 27
A17: Votos Nulos | D17: 0 | F17: Votos Nulos | I17: 0 | K17: Votos brancos | N17: 27
K18: Votos Nulos | N18: 1
F20: RESULTADOS (CEPE)
A22: CHAPAS (CEPE)
A24: DOCENTES | D24: Votos | F24: T.As | I24: Votos | K24: ESTUDANTES | N24: Votos
A25: CHAPA 01 | D25: 78 | F25: CHAPA 01 | I25: 32 | K25: CHAPA 01 | N25: 297
A26: Votos brancos | D26: 26 | F26: CHAPA 02 | I26: 23 | K26: CHAPA 02 | N26: 33
A27: Votos Nulos | D27: 0 | F27: Votos brancos | I27: 17 | K27: Votos brancos | N27: 45
F28: Votos Nulos | I28: 2 | K28: Votos Nulos | N28: 0

Sheet Mangabeira
E2: ELEIÇÕES CONSUPER/CEPE 2016 - CAMPUS MANGABEIRA
A4: Urna de Docentes | F4: Urna de TAs | K4: Urna de Estudantes
B6: Total de eleitores aptos a votar | D6: 3 | G6: Total de eleitores aptos a votar | I6: 2 | L6: Total de eleitores aptos a votar | N6: 74
B7: Total de votantes | D7: 3 | G7: Total de votantes | I7: 2 | L7: Total de votantes | N7: 62
B8: Abstenções | D8: =D6-D7 -> 0 | G8: Abstenções | I8: =I6-I7 -> 0 | L8: Abstenções | N8: =N6-N7 -> 12
F10: RESULTADOS (CONSUPER)
A12: CHAPAS (CONSUPER)
A14: DOCENTES | D14: Votos | F14: T.As | I14: Votos | K14: ESTUDANTES | N14: Votos
A15: CHAPA 01 | D15: 3 | F15: CHAPA 01 | I15: 1 | K15: CHAPA 01 | N15: 29
A16: Votos brancos | D16: 0 | F16: Votos brancos | I16: 0 | K16: CHAPA 02 | N16: 20
A17: Votos Nulos | D17: 0 | F17: Votos Nulos | I17: 1 | K17: Votos brancos | N17: 11
K18: Votos Nulos | N18: 2
F20: RESULTADOS (CEPE)
A22: CHAPAS (CEPE)
A24: DOCENTES | D24: Votos | F24: T.As | I24: Votos | K24: ESTUDANTES | N24: Votos
A25: CHAPA 01 | D25: 3 | F25: CHAPA 01 | I25: 0 | K25: CHAPA 01 | N25: 29
A26: Votos brancos | D26: 0 | F26: CHAPA 02 | I26: 1 | K26: CHAPA 02 | N26: 21
A27: Votos Nulos | D27: 0 | F27: Votos brancos | I27: 0 | K27: Votos brancos | N27: 12
F28: Votos Nulos | I28: 1 | K28: Votos Nulos | N28: 0

Sheet Monteiro
E2: ELEIÇÕES CONSUPER/CEPE 2016 - CAMPUS MONTEIRO
A4: Urna de Docentes | F4: Urna de TAs | K4: Urna de Estudantes
B6: Total de eleitores aptos a votar | D6: 54 | G6: Total de eleitores aptos a votar | I6: 36 | L6: Total de eleitores aptos a votar | N6: 680
B7: Total de votantes | D7: 33 | G7: Total de votantes | I7: 23 | L7: Total de votantes | N7: 67
B8: Abstenções | D8: =D6-D7 -> 21 | G8: Abstenções | I8: =I6-I7 -> 13 | L8: Abstenções | N8: =N6-N7 -> 613
F10: RESULTADOS (CONSUPER)
A12: CHAPAS (CONSUPER)
A14: DOCENTES | D14: Votos | F14: T.As | I14: Votos | K14: ESTUDANTES | N14: Votos
A15: CHAPA 01 | D15: 29 | F15: CHAPA 01 | I15: 18 | K15: CHAPA 01 | N15: 42
A16: Votos brancos | D16: 4 | F16: Votos brancos | I16: 5 | K16: CHAPA 02 | N16: 17
A17: Votos Nulos | D17: 0 | F17: Votos Nulos | I17: 0 | K17: Votos brancos | N17: 8
K18: Votos Nulos | N18: 0
F20: RESULTADOS (CEPE)
A22: CHAPAS (CEPE)
A24: DOCENTES | D24: Votos | F24: T.As | I24: Votos | K24: ESTUDANTES | N24: Votos
A25: CHAPA 01 | D25: 28 | F25: CHAPA 01 | I25: 12 | K25: CHAPA 01 | N25: 37
A26: Votos brancos | D26: 5 | F26: CHAPA 02 | I26: 5 | K26: CHAPA 02 | N26: 24
A27: Votos Nulos | D27: 0 | F27: Votos brancos | I27: 6 | K27: Votos brancos | N27: 6
F28: Votos Nulos | I28: 0 | K28: Votos Nulos | N28: 0

Sheet Patos
E2: ELEIÇÕES CONSUPER/CEPE 2016 - CAMPUS PATOS
A4: Urna de Docentes | F4: Urna de TAs | K4: Urna de Estudantes
B6: Total de eleitores aptos a votar | D6: 57 | G6: Total de eleitores aptos a votar | I6: 37 | L6: Total de eleitores aptos a votar | N6: 1098
B7: Total de votantes | D7: 41 | G7: Total de votantes | I7: 26 | L7: Total de votantes | N7: 53
B8: Abstenções | D8: =D6-D7 -> 16 | G8: Abstenções | I8: =I6-I7 -> 11 | L8: Abstenções | N8: =N6-N7 -> 1045
F10: RESULTADOS (CONSUPER)
A12: CHAPAS (CONSUPER)
A14: DOCENTES | D14: Votos | F14: T.As | I14: Votos | K14: ESTUDANTES | N14: Votos
A15: CHAPA 01 | D15: 35 | F15: CHAPA 01 | I15: 22 | K15: CHAPA 01 | N15: 38
A16: Votos brancos | D16: 6 | F16: Votos brancos | I16: 3 | K16: CHAPA 02 | N16: 9
A17: Votos Nulos | D17: 0 | F17: Votos Nulos | I17: 1 | K17: Votos brancos | N17: 6
K18: Votos Nulos | N18: 0
F20: RESULTADOS (CEPE)
A22: CHAPAS (CEPE)
A24: DOCENTES | D24: Votos | F24: T.As | I24: Votos | K24: ESTUDANTES | N24: Votos
A25: CHAPA 01 | D25: 34 | F25: CHAPA 01 | I25: 21 | K25: CHAPA 01 | N25: 26
A26: Votos brancos | D26: 7 | F26: CHAPA 02 | I26: 1 | K26: CHAPA 02 | N26: 21
A27: Votos Nulos | D27: 0 | F27: Votos brancos | I27: 3 | K27: Votos brancos | N27: 6
F28: Votos Nulos | I28: 1 | K28: Votos Nulos | N28: 0

Sheet Pedras de Fogo
E2: ELEIÇÕES CONSUPER/CEPE 2016 - CAMPUS PEDRAS DE FOGO
A4: Urna de Docentes | F4: Urna de TAs | K4: Urna de Estudantes
B6: Total de eleitores aptos a votar | G6: Total de eleitores aptos a votar | L6: Total de eleitores aptos a votar | N6: 30
B7: Total de votantes | G7: Total de votantes | L7: Total de votantes | N7: 3
B8: Abstenções | D8: =D6-D7 -> 0 | G8: Abstenções | I8: =I6-I7 -> 0 | L8: Abstenções | N8: =N6-N7 -> 27
F10: RESULTADOS (CONSUPER)
A12: CHAPAS (CONSUPER)
A14: DOCENTES | D14: Votos | F14: T.As | I14: Votos | K14: ESTUDANTES | N14: Votos
A15: CHAPA 01 | F15: CHAPA 01 | K15: CHAPA 01 | N15: 3
A16: Votos brancos | F16: Votos brancos | K16: CHAPA 02 | N16: 0
A17: Votos Nulos | F17: Votos Nulos | K17: Votos brancos | N17: 0
K18: Votos Nulos | N18: 0
F20: RESULTADOS (CEPE)
A22: CHAPAS (CEPE)
A24: DOCENTES | D24: Votos | F24: T.As | I24: Votos | K24: ESTUDANTES | N24: Votos
A25: CHAPA 01 | F25: CHAPA 01 | K25: CHAPA 01 | N25: 2
A26: Votos brancos | F26: CHAPA 02 | K26: CHAPA 02 | N26: 1
A27: Votos Nulos | F27: Votos brancos | K27: Votos brancos | N27: 0
F28: Votos Nulos | K28: Votos Nulos | N28: 0

Sheet Picuí
E2: ELEIÇÕES CONSUPER/CEPE 2016 - CAMPUS PICUÍ
A4: Urna de Docentes | F4: Urna de TAs | K4: Urna de Estudantes
B6: Total de eleitores aptos a votar | D6: 58 | G6: Total de eleitores aptos a votar | I6: 35 | L6: Total de eleitores aptos a votar | N6: 846
B7: Total de votantes | D7: 41 | G7: Total de votantes | I7: 25 | L7: Total de votantes | N7: 268
B8: Abstenções | D8: =D6-D7 -> 17 | G8: Abstenções | I8: =I6-I7 -> 10 | L8: Abstenções | N8: =N6-N7 -> 578
F10: RESULTADOS (CONSUPER)
A12: CHAPAS (CONSUPER)
A14: DOCENTES | D14: Votos | F14: T.As | I14: Votos | K14: ESTUDANTES | N14: Votos
A15: CHAPA 01 | D15: 28 | F15: CHAPA 01 | I15: 20 | K15: CHAPA 01 | N15: 62
A16: Votos brancos | D16: 13 | F16: Votos brancos | I16: 5 | K16: CHAPA 02 | N16: 158
A17: Votos Nulos | D17: 0 | F17: Votos Nulos | I17: 0 | K17: Votos brancos | N17: 48
K18: Votos Nulos | N18: 0
F20: RESULTADOS (CEPE)
A22: CHAPAS (CEPE)
A24: DOCENTES | D24: Votos | F24: T.As | I24: Votos | K24: ESTUDANTES | N24: Votos
A25: CHAPA 01 | D25: 27 | F25: CHAPA 01 | I25: 21 | K25: CHAPA 01 | N25: 61
A26: Votos brancos | D26: 14 | F26: CHAPA 02 | I26: 3 | K26: CHAPA 02 | N26: 145
A27: Votos Nulos | D27: 0 | F27: Votos brancos | I27: 1 | K27: Votos brancos | N27: 62
F28: Votos Nulos | I28: 0 | K28: Votos Nulos | N28: 0

Sheet Princesa Isabel
E2: ELEIÇÕES CONSUPER/CEPE 2016 - CAMPUS PRINCESA ISABEL
A4: Urna de Docentes | F4: Urna de TAs | K4: Urna de Estudantes
B6: Total de eleitores aptos a votar | D6: 48 | G6: Total de eleitores aptos a votar | I6: 33 | L6: Total de eleitores aptos a votar | N6: 546
B7: Total de votantes | D7: 28 | G7: Total de votantes | I7: 23 | L7: Total de votantes | N7: 61
B8: Abstenções | D8: =D6-D7 -> 20 | G8: Abstenções | I8: =I6-I7 -> 10 | L8: Abstenções | N8: =N6-N7 -> 485
F10: RESULTADOS (CONSUPER)
A12: CHAPAS (CONSUPER)
A14: DOCENTES | D14: Votos | F14: T.As | I14: Votos | K14: ESTUDANTES | N14: Votos
A15: CHAPA 01 | D15: 26 | F15: CHAPA 01 | I15: 18 | K15: CHAPA 01 | N15: 37
A16: Votos brancos | D16: 2 | F16: Votos brancos | I16: 5 | K16: CHAPA 02 | N16: 9
A17: Votos Nulos | D17: 0 | F17: Votos Nulos | I17: 0 | K17: Votos brancos | N17: 10
K18: Votos Nulos | N18: 5
F20: RESULTADOS (CEPE)
A22: CHAPAS (CEPE)
A24: DOCENTES | D24: Votos | F24: T.As | I24: Votos | K24: ESTUDANTES | N24: Votos
A25: CHAPA 01 | D25: 23 | F25: CHAPA 01 | I25: 17 | K25: CHAPA 01 | N25: 34
A26: Votos brancos | D26: 5 | F26: CHAPA 02 | I26: 2 | K26: CHAPA 02 | N26: 12
A27: Votos Nulos | D27: 0 | F27: Votos brancos | I27: 4 | K27: Votos brancos | N27: 8
F28: Votos Nulos | I28: 0 | K28: Votos Nulos | N28: 7

Sheet Reitoria
E2: ELEIÇÕES CONSUPER/CEPE 2016 - REITORIA
A4: Urna de Docentes | F4: Urna de TAs
B6: Total de eleitores aptos a votar | D6: 44 | G6: Total de eleitores aptos a votar | I6: 251
B7: Total de votantes | D7: 14 | G7: Total de votantes | I7: 107
B8: Abstenções | D8: =D6-D7 -> 30 | G8: Abstenções | I8: =I6-I7 -> 144
F10: RESULTADOS (CONSUPER)
A12: CHAPAS (CONSUPER)
A14: DOCENTES | D14: Votos | F14: T.As | I14: Votos
A15: CHAPA 01 | D15: 13 | F15: CHAPA 01 | I15: 104
A16: Votos brancos | D16: 1 | F16: Votos brancos | I16: 3
A17: Votos Nulos | D17: 0 | F17: Votos Nulos | I17: 0
F20: RESULTADOS (CEPE)
A22: CHAPAS (CEPE)
A24: DOCENTES | D24: Votos | F24: T.As | I24: Votos
A25: CHAPA 01 | D25: 13 | F25: CHAPA 01 | I25: 89
A26: Votos brancos | D26: 1 | F26: CHAPA 02 | I26: 12
A27: Votos Nulos | D27: 0 | F27: Votos brancos | I27: 5
F28: Votos Nulos | I28: 1

Sheet Santa Luzia
E2: ELEIÇÕES CONSUPER/CEPE 2016 - CAMPUS SANTA LUZIA
A4: Urna de Docentes | F4: Urna de TAs | K4: Urna de Estudantes
B6: Total de eleitores aptos a votar | D6: 1 | G6: Total de eleitores aptos a votar | I6: 1 | L6: Total de eleitores aptos a votar
B7: Total de votantes | D7: 1 | G7: Total de votantes | I7: 1 | L7: Total de votantes
B8: Abstenções | D8: =D6-D7 -> 0 | G8: Abstenções | I8: =I6-I7 -> 0 | L8: Abstenções | N8: =N6-N7 -> 0
F10: RESULTADOS (CONSUPER)
A12: CHAPAS (CONSUPER)
A14: DOCENTES | D14: Votos | F14: T.As | I14: Votos | K14: ESTUDANTES | N14: Votos
A15: CHAPA 01 | D15: 1 | F15: CHAPA 01 | I15: 1 | K15: CHAPA 01
A16: Votos brancos | D16: 0 | F16: Votos brancos | I16: 0 | K16: CHAPA 02
A17: Votos Nulos | D17: 0 | F17: Votos Nulos | I17: 0 | K17: Votos brancos
K18: Votos Nulos
F20: RESULTADOS (CEPE)
A22: CHAPAS (CEPE)
A24: DOCENTES | D24: Votos | F24: T.As | I24: Votos | K24: ESTUDANTES | N24: Votos
A25: CHAPA 01 | D25: 1 | F25: CHAPA 01 | I25: 1 | K25: CHAPA 01
A26: Votos brancos | F26: CHAPA 02 | K26: CHAPA 02
A27: Votos Nulos | F27: Votos brancos | K27: Votos brancos
F28: Votos Nulos | K28: Votos Nulos

Sheet Santa Rita
E2: ELEIÇÕES CONSUPER/CEPE 2016 - CAMPUS SANTA RITA
A4: Urna de Docentes | F4: Urna de TAs | K4: Urna de Estudantes
B6: Total de eleitores aptos a votar | D6: 14 | G6: Total de eleitores aptos a votar | I6: 13 | L6: Total de eleitores aptos a votar | N6: 70
B7: Total de votantes | D7: 7 | G7: Total de votantes | I7: 8 | L7: Total de votantes | N7: 56
B8: Abstenções | D8: =D6-D7 -> 7 | G8: Abstenções | I8: =I6-I7 -> 5 | L8: Abstenções | N8: =N6-N7 -> 14
F10: RESULTADOS (CONSUPER)
A12: CHAPAS (CONSUPER)
A14: DOCENTES | D14: Votos | F14: T.As | I14: Votos | K14: ESTUDANTES | N14: Votos
A15: CHAPA 01 | D15: 7 | F15: CHAPA 01 | I15: 5 | K15: CHAPA 01 | N15: 29
A16: Votos brancos | D16: 0 | F16: Votos brancos | I16: 3 | K16: CHAPA 02 | N16: 8
A17: Votos Nulos | D17: 0 | F17: Votos Nulos | I17: 0 | K17: Votos brancos | N17: 16
K18: Votos Nulos | N18: 3
F20: RESULTADOS (CEPE)
A22: CHAPAS (CEPE)
A24: DOCENTES | D24: Votos | F24: T.As | I24: Votos | K24: ESTUDANTES | N24: Votos
A25: CHAPA 01 | D25: 7 | F25: CHAPA 01 | I25: 3 | K25: CHAPA 01 | N25: 24
A26: Votos brancos | D26: 0 | F26: CHAPA 02 | I26: 3 | K26: CHAPA 02 | N26: 17
A27: Votos Nulos | D27: 0 | F27: Votos brancos | I27: 2 | K27: Votos brancos | N27: 12
F28: Votos Nulos | I28: 0 | K28: Votos Nulos | N28: 3

Sheet Soledade
E2: ELEIÇÕES CONSUPER/CEPE 2016 - CAMPUS SOLEDADE
A4: Urna de Docentes | F4: Urna de TAs | K4: Urna de Estudantes
B6: Total de eleitores aptos a votar | D6: 2 | G6: Total de eleitores aptos a votar | I6: 1 | L6: Total de eleitores aptos a votar | N6: 58
B7: Total de votantes | D7: 2 | G7: Total de votantes | I7: 1 | L7: Total de votantes | N7: 2
B8: Abstenções | D8: =D6-D7 -> 0 | G8: Abstenções | I8: =I6-I7 -> 0 | L8: Abstenções | N8: =N6-N7 -> 56
F10: RESULTADOS (CONSUPER)
A12: CHAPAS (CONSUPER)
A14: DOCENTES | D14: Votos | F14: T.As | I14: Votos | K14: ESTUDANTES | N14: Votos
A15: CHAPA 01 | D15: 2 | F15: CHAPA 01 | I15: 1 | K15: CHAPA 01 | N15: 0
A16: Votos brancos | D16: 0 | F16: Votos brancos | I16: 0 | K16: CHAPA 02 | N16: 0
A17: Votos Nulos | D17: 0 | F17: Votos Nulos | I17: 0 | K17: Votos brancos | N17: 0
K18: Votos Nulos | N18: 0
F20: RESULTADOS (CEPE)
A22: CHAPAS (CEPE)
A24: DOCENTES | D24: Votos | F24: T.As | I24: Votos | K24: ESTUDANTES | N24: Votos
A25: CHAPA 01 | D25: 2 | F25: CHAPA 01 | I25: 1 | K25: CHAPA 01 | N25: 0
A26: Votos brancos | D26: 0 | F26: CHAPA 02 | I26: 0 | K26: CHAPA 02 | N26: 0
A27: Votos Nulos | D27: 0 | F27: Votos brancos | I27: 0 | K27: Votos brancos | N27: 0
F28: Votos Nulos | I28: 0 | K28: Votos Nulos | N28: 0

Sheet Sousa
E2: ELEIÇÕES CONSUPER/CEPE 2016 - CAMPUS SOUSA
A4: Urna de Docentes | F4: Urna de TAs | K4: Urna de Estudantes
B6: Total de eleitores aptos a votar | D6: 95 | G6: Total de eleitores aptos a votar | I6: 100 | L6: Total de eleitores aptos a votar | N6: 1015
B7: Total de votantes | D7: 55 | G7: Total de votantes | I7: 77 | L7: Total de votantes | N7: 238
B8: Abstenções | D8: =D6-D7 -> 40 | G8: Abstenções | I8: =I6-I7 -> 23 | L8: Abstenções | N8: =N6-N7 -> 777
F10: RESULTADOS (CONSUPER)
A12: CHAPAS (CONSUPER)
A14: DOCENTES | D14: Votos | F14: T.As | I14: Votos | K14: ESTUDANTES | N14: Votos
A15: CHAPA 01 | D15: 32 | F15: CHAPA 01 | I15: 42 | K15: CHAPA 01 | N15: 93
A16: Votos brancos | D16: 20 | F16: Votos brancos | I16: 35 | K16: CHAPA 02 | N16: 70
A17: Votos Nulos | D17: 3 | F17: Votos Nulos | I17: 0 | K17: Votos brancos | N17: 72
K18: Votos Nulos | N18: 3
F20: RESULTADOS (CEPE)
A22: CHAPAS (CEPE)
A24: DOCENTES | D24: Votos | F24: T.As | I24: Votos | K24: ESTUDANTES | N24: Votos
A25: CHAPA 01 | D25: 31 | F25: CHAPA 01 | I25: 33 | K25: CHAPA 01 | N25: 81
A26: Votos brancos | D26: 22 | F26: CHAPA 02 | I26: 11 | K26: CHAPA 02 | N26: 59
A27: Votos Nulos | D27: 2 | F27: Votos brancos | I27: 31 | K27: Votos brancos | N27: 94
F28: Votos Nulos | I28: 2 | K28: Votos Nulos | N28: 4

Sheet Todos os Campi
E2: ELEIÇÕES CONSUPER/CEPE 2016 - TODOS OS CAMPI
A4: Urna de Docentes | F4: Urna de TAs | K4: Urna de Estudantes
B6: Total de eleitores aptos a votar | D6: =SUM(Areia:Sousa!D6) -> 1189 | G6: Total de eleitores aptos a votar | I6: =SUM(Areia:Sousa!I6) -> 1034 | L6: Total de eleitores aptos a votar | N6: =SUM(Areia:Sousa!N6) -> 13614
B7: Total de votantes | D7: =SUM(Areia:Sousa!D7) -> 544 | G7: Total de votantes | I7: =SUM(Areia:Sousa!I7) -> 567 | L7: Total de votantes | N7: =SUM(Areia:Sousa!N7) -> 2125
B8: Abstenções | D8: =SUM(Areia:Sousa!D8) -> 645 | G8: Abstenções | I8: =SUM(Areia:Sousa!I8) -> 467 | L8: Abstenções | N8: =SUM(Areia:Sousa!N8) -> 11489
F10: RESULTADOS (CONSUPER)
A12: CHAPAS (CONSUPER)
A14: DOCENTES | D14: Votos | F14: T.As | I14: Votos | K14: ESTUDANTES | N14: Votos
A15: CHAPA 01 | D15: =SUM(Areia:Sousa!D15) -> 450 | F15: CHAPA 01 | I15: =SUM(Areia:Sousa!I15) -> 413 | K15: CHAPA 01 | N15: =SUM(Areia:Sousa!N15) -> 934
A16: Votos brancos | D16: =SUM(Areia:Sousa!D16) -> 90 | F16: Votos brancos | I16: =SUM(Areia:Sousa!I16) -> 160 | K16: CHAPA 02 | N16: =SUM(Areia:Sousa!N16) -> 868
A17: Votos Nulos | D17: =SUM(Areia:Sousa!D17) -> 4 | F17: Votos Nulos | I17: =SUM(Areia:Sousa!I17) -> 2 | K17: Votos brancos | N17: =SUM(Areia:Sousa!N17) -> 297
K18: Votos Nulos | N18: =SUM(Areia:Sousa!N18) -> 24
K20: Quociente Eleitoral (Art. 12 do Regulamento) | N20: =SUM(N15,N16)/6 -> 300.33333
K22: Número de Candidatos Titulares Eleitos
K23: CHAPA 01 | N23: =N15/N20 -> 3.1098779
K24: CHAPA 02 | N24: =N16/N20 -> 2.8901221
F26: RESULTADOS (CEPE)
A28: CHAPAS (CEPE)
A30: DOCENTES | D30: Votos | F30: T.As | I30: Votos | K30: ESTUDANTES | N30: Votos
A31: CHAPA 01 | D31: =SUM(Areia:Sousa!D25) -> 424 | F31: CHAPA 01 | I31: =SUM(Areia:Sousa!I25) -> 316 | K31: CHAPA 01 | N31: =SUM(Areia:Sousa!N25) -> 847
A32: Votos brancos | D32: =SUM(Areia:Sousa!D26) -> 114 | F32: CHAPA 02 | I32: =SUM(Areia:Sousa!I26) -> 101 | K32: CHAPA 02 | N32: =SUM(Areia:Sousa!N26) -> 863
A33: Votos Nulos | D33: =SUM(Areia:Sousa!D27) -> 3 | F33: Votos brancos | I33: =SUM(Areia:Sousa!I27) -> 137 | K33: Votos brancos | N33: =SUM(Areia:Sousa!N27) -> 395
F34: Votos Nulos | I34: =SUM(Areia:Sousa!I28) -> 13 | K34: Votos Nulos | N34: =SUM(Areia:Sousa!N28) -> 27
F36: Quociente Eleitoral (Art. 12 do Regulamento) | I36: =SUM(I31,I32)/3 -> 139 | K36: Quociente Eleitoral (Art. 12 do Regulamento) | N36: =SUM(N31,N32)/3 -> 570
F38: Número de Candidatos Titulares Eleitos | K38: Número de Candidatos Titulares Eleitos
F39: CHAPA 01 | I39: =I31/I36 -> 2.2733813 | K39: CHAPA 01 | N39: =N31/N36 -> 1.4859649
F40: CHAPA 02 | I40: =I32/I36 -> 0.72661871 | K40: CHAPA 02 | N40: =N32/N36 -> 1.5140351
